BEGIN:VCALENDAR
VERSION:2.0
PRODID:-//Pike Lake Chain Lakes Association - Price County - ECPv6.15.20//NONSGML v1.0//EN
CALSCALE:GREGORIAN
METHOD:PUBLISH
X-ORIGINAL-URL:https://pikelakechain.net
X-WR-CALDESC:Events for Pike Lake Chain Lakes Association - Price County
REFRESH-INTERVAL;VALUE=DURATION:PT1H
X-Robots-Tag:noindex
X-PUBLISHED-TTL:PT1H
BEGIN:VTIMEZONE
TZID:America/Chicago
BEGIN:DAYLIGHT
TZOFFSETFROM:-0600
TZOFFSETTO:-0500
TZNAME:CDT
DTSTART:20250309T080000
END:DAYLIGHT
BEGIN:STANDARD
TZOFFSETFROM:-0500
TZOFFSETTO:-0600
TZNAME:CST
DTSTART:20251102T070000
END:STANDARD
BEGIN:DAYLIGHT
TZOFFSETFROM:-0600
TZOFFSETTO:-0500
TZNAME:CDT
DTSTART:20260308T080000
END:DAYLIGHT
BEGIN:STANDARD
TZOFFSETFROM:-0500
TZOFFSETTO:-0600
TZNAME:CST
DTSTART:20261101T070000
END:STANDARD
BEGIN:DAYLIGHT
TZOFFSETFROM:-0600
TZOFFSETTO:-0500
TZNAME:CDT
DTSTART:20270314T080000
END:DAYLIGHT
BEGIN:STANDARD
TZOFFSETFROM:-0500
TZOFFSETTO:-0600
TZNAME:CST
DTSTART:20271107T070000
END:STANDARD
END:VTIMEZONE
BEGIN:VEVENT
DTSTART;TZID=America/Chicago:20260606T090000
DTEND;TZID=America/Chicago:20260606T110000
DTSTAMP:20260425T071732
CREATED:20260422T181906Z
LAST-MODIFIED:20260422T181906Z
UID:310-1780736400-1780743600@pikelakechain.net
SUMMARY:PLCLA Annual Meeting
DESCRIPTION:What:  PLCLA Annual Meeting\nWhere:  Pike Lake Fire Station Meeting Room\nWhen:  Saturday\, June 6th\, 9:00 AM\n­\nThe Annual meeting is open to the public with a dedicated agenda item for public comment.\n\nAgenda will be posted as soon as it’s available.
URL:https://pikelakechain.net/event/plcla-annual-meeting/
LOCATION:Pike Lake Firehall\, N14885 Shady Knoll Dr.\, Park Falls\, WI\, 54552\, United States
CATEGORIES:Meetings
ATTACH;FMTTYPE=image/png:https://pikelakechain.net/wp-content/uploads/2026/04/26-06-06-Annual-Meeting-Reminder.png
ORGANIZER;CN="Pike Lake Chain Lakes Association":MAILTO:communications@pikelakechain.net
END:VEVENT
END:VCALENDAR